BEGIN:VCALENDAR
VERSION:2.0
PRODID:-//Dawson Creek &amp; District Chamber of Commerce - ECPv6.15.17.1//NONSGML v1.0//EN
CALSCALE:GREGORIAN
METHOD:PUBLISH
X-ORIGINAL-URL:https://dawsoncreekchamber.ca
X-WR-CALDESC:Events for Dawson Creek &amp; District Chamber of Commerce
REFRESH-INTERVAL;VALUE=DURATION:PT1H
X-Robots-Tag:noindex
X-PUBLISHED-TTL:PT1H
BEGIN:VTIMEZONE
TZID:America/Dawson_Creek
BEGIN:STANDARD
TZOFFSETFROM:-0700
TZOFFSETTO:-0700
TZNAME:MST
DTSTART:20190101T000000
END:STANDARD
END:VTIMEZONE
BEGIN:VEVENT
DTSTART;TZID=America/Dawson_Creek:20201007T090000
DTEND;TZID=America/Dawson_Creek:20201007T100000
DTSTAMP:20260419T080002
CREATED:20200915T165353Z
LAST-MODIFIED:20200915T165353Z
UID:10000035-1602061200-1602064800@dawsoncreekchamber.ca
SUMMARY:Zoom session with Mayor Bumstead - Community Update
DESCRIPTION:October 7th \n9 am \nCommunity update with Mayor Bumstead on the following topics: \n\nCity Budget\nFacilities\nCurrent City Initiative\n\nRegister in advance for this meeting:\nhttps://us02web.zoom.us/meeting/register/tZMocuGhrTovHNURx3t75GCLc0QsvGWkx34P \nAfter registering\, you will receive a confirmation email containing information about joining the meeting. \n 
URL:https://dawsoncreekchamber.ca/event/zoom-session-with-mayor-bumstead/
LOCATION:BC
END:VEVENT
END:VCALENDAR